BEGIN:VCALENDAR
VERSION:2.0
PRODID:-//Library Market//iCal Export//EN
BEGIN:VEVENT
SUMMARY:Estate Planning Workshop
UID:3566
DTSTAMP:20260419T172700Z
DTSTART:20260512T190000Z
DTEND:20260512T200000Z
LOCATION:Carnegie Library of Homestead, 510 East 10th Avenue, Munhall, PA 
 15120, United States
ROOM: Shuffleboard Room
DESCRIPTION:Learn how to protect your legacy in this workshop with experie
 nced estate planning attorney, Michael Nahas. Register online or call the 
 library at 412-462-3444 and we&#039;ll get you signed up! 
URL:https://homestead.librarycalendar.com/event/estate-planning-workshop-3
 566
END:VEVENT
END:VCALENDAR
